BEGIN:VCALENDAR
VERSION:2.0
PRODID:spatie/icalendar-generator
DESCRIPTION:Evenementen van Tilburg AHOI
X-WR-CALDESC:Evenementen van Tilburg AHOI
REFRESH-INTERVAL;VALUE=DURATION:PT1440M
X-PUBLISHED-TTL:PT1440M
BEGIN:VTIMEZONE
TZID:Europe/Amsterdam
BEGIN:DAYLIGHT
DTSTART:20260329T020000Z
TZOFFSETFROM:+0100
TZOFFSETTO:+0200
END:DAYLIGHT
BEGIN:STANDARD
DTSTART:20261025T030000Z
TZOFFSETFROM:+0200
TZOFFSETTO:+0100
END:STANDARD
END:VTIMEZONE
BEGIN:VTIMEZONE
TZID:UTC
BEGIN:STANDARD
DTSTART:20250729T113852Z
TZOFFSETFROM:+0000
TZOFFSETTO:+0000
END:STANDARD
END:VTIMEZONE
BEGIN:VEVENT
UID:15-9
DTSTAMP:20260425T113852Z
SUMMARY:22 augustus - muziekvaart
LOCATION:
ORGANIZER;CN=Ans Kuijpers:MAILTO:a.j.kuijpers@outlook.com
DTSTART;TZID=Europe/Amsterdam:20260822T193000
DTEND;TZID=Europe/Amsterdam:20260822T223000
X-ALT-DESC;FMTTYPE=TEXT/HTML:
CATEGORIES:General
URL;VALUE=URI:https://www.tilburgahoi.nl/mc-events/22-augustus-muziekvaart/
METHOD:PUBLISH
END:VEVENT
END:VCALENDAR